Package: XDE Version: 2.54.0 Command: /Library/Frameworks/R.framework/Resources/bin/R CMD check --install=check:XDE.install-out.txt --library=/Library/Frameworks/R.framework/Resources/library --no-vignettes --timings XDE_2.54.0.tar.gz StartedAt: 2025-05-02 11:51:54 -0400 (Fri, 02 May 2025) EndedAt: 2025-05-02 11:57:42 -0400 (Fri, 02 May 2025) EllapsedTime: 348.1 seconds RetCode: 0 Status: WARNINGS CheckDir: XDE.Rcheck Warnings: 1