Package: XDE Version: 2.54.0 Command: rm -rf XDE.buildbin-libdir && mkdir XDE.buildbin-libdir && /Users/biocbuild/BBS/utils/build-universal.sh XDE_2.54.0.tar.gz /Library/Frameworks/R.framework/Resources/bin/R XDE.buildbin-libdir StartedAt: 2025-04-22 01:15:26 -0400 (Tue, 22 Apr 2025) EndedAt: 2025-04-22 01:16:26 -0400 (Tue, 22 Apr 2025) EllapsedTime: 60.6 seconds RetCode: 0 Status: OK PackageFile: XDE_2.54.0.tgz PackageFileSize: 2.248 MiB