Package: XDE Version: 2.54.0 Command: /Library/Frameworks/R.framework/Resources/bin/R CMD INSTALL XDE StartedAt: 2025-04-21 15:09:46 -0400 (Mon, 21 Apr 2025) EndedAt: 2025-04-21 15:10:05 -0400 (Mon, 21 Apr 2025) EllapsedTime: 19.0 seconds RetCode: 0 Status: OK