Package: XDE Version: 2.52.0 Command: /Library/Frameworks/R.framework/Resources/bin/R CMD INSTALL XDE StartedAt: 2025-01-30 17:39:17 -0500 (Thu, 30 Jan 2025) EndedAt: 2025-01-30 17:40:16 -0500 (Thu, 30 Jan 2025) EllapsedTime: 59.3 seconds RetCode: 0 Status: OK