Package: XAItest Version: 1.2.0 Command: /home/biocbuild/bbs-3.22-bioc/R/bin/R CMD INSTALL XAItest StartedAt: 2025-11-16 15:23:11 -0500 (Sun, 16 Nov 2025) EndedAt: 2025-11-16 15:23:15 -0500 (Sun, 16 Nov 2025) EllapsedTime: 3.5 seconds RetCode: 0 Status: OK