Package: XAItest Version: 1.2.0 Command: /Library/Frameworks/R.framework/Resources/bin/R CMD build --keep-empty-dirs --no-resave-data XAItest StartedAt: 2025-11-10 18:09:39 -0500 (Mon, 10 Nov 2025) EndedAt: 2025-11-10 18:10:47 -0500 (Mon, 10 Nov 2025) EllapsedTime: 67.7 seconds RetCode: 0 Status: OK PackageFile: XAItest_1.2.0.tar.gz PackageFileSize: 1.387 MiB