Package: Wrench Version: 1.26.0 Command: /home/biocbuild/bbs-3.21-bioc/R/bin/R CMD build --keep-empty-dirs --no-resave-data Wrench StartedAt: 2025-10-01 20:36:31 -0400 (Wed, 01 Oct 2025) EndedAt: 2025-10-01 20:37:14 -0400 (Wed, 01 Oct 2025) EllapsedTime: 43.0 seconds RetCode: 0 Status: OK PackageFile: Wrench_1.26.0.tar.gz PackageFileSize: 224.9 KiB