Package: VplotR Version: 1.18.0 Command: /home/biocbuild/bbs-3.21-bioc/R/bin/R CMD INSTALL VplotR StartedAt: 2025-10-01 15:52:13 -0400 (Wed, 01 Oct 2025) EndedAt: 2025-10-01 15:52:43 -0400 (Wed, 01 Oct 2025) EllapsedTime: 30.6 seconds RetCode: 0 Status: OK