Package: Voyager Version: 1.10.0 Command: /Library/Frameworks/R.framework/Resources/bin/R CMD check --install=check:Voyager.install-out.txt --library=/Library/Frameworks/R.framework/Resources/library --no-vignettes --timings Voyager_1.10.0.tar.gz StartedAt: 2025-04-22 00:19:02 -0400 (Tue, 22 Apr 2025) EndedAt: 2025-04-22 00:31:34 -0400 (Tue, 22 Apr 2025) EllapsedTime: 752.9 seconds RetCode: 0 Status: WARNINGS CheckDir: Voyager.Rcheck Warnings: 1