Package: Voyager Version: 1.10.0 Command: /home/biocbuild/R/R/bin/R CMD INSTALL Voyager StartedAt: 2025-05-05 20:53:58 -0000 (Mon, 05 May 2025) EndedAt: 2025-05-05 20:55:14 -0000 (Mon, 05 May 2025) EllapsedTime: 75.4 seconds RetCode: 0 Status: OK