Package: Voyager Version: 1.10.0 Maintainer: Lambda Moses MaintainerEmail: dl3764 at columbia.edu git_url: https://git.bioconductor.org/packages/Voyager git_branch: RELEASE_3_21 git_last_commit: 27b5859 git_last_commit_date: 2025-04-15 12:57:28 -0400 (Tue, 15 Apr 2025)