Package: VisiumIO Version: 1.2.0 Command: /Library/Frameworks/R.framework/Resources/bin/R CMD check --install=check:VisiumIO.install-out.txt --library=/Library/Frameworks/R.framework/Resources/library --no-vignettes --timings VisiumIO_1.2.0.tar.gz StartedAt: 2025-01-04 12:52:43 -0500 (Sat, 04 Jan 2025) EndedAt: 2025-01-04 12:56:17 -0500 (Sat, 04 Jan 2025) EllapsedTime: 213.4 seconds RetCode: 0 Status: OK CheckDir: VisiumIO.Rcheck Warnings: 0