Package: VegaMC Version: 3.46.0 Maintainer: Sandro Morganella MaintainerEmail: morganellaalx at gmail.com git_url: https://git.bioconductor.org/packages/VegaMC git_branch: RELEASE_3_21 git_last_commit: d2f35f0 git_last_commit_date: 2025-04-15 10:13:14 -0400 (Tue, 15 Apr 2025)