Package: VariantTools Version: 1.50.0 Command: /Library/Frameworks/R.framework/Resources/bin/R CMD build --keep-empty-dirs --no-resave-data VariantTools StartedAt: 2025-05-15 23:26:45 -0400 (Thu, 15 May 2025) EndedAt: 2025-05-15 23:29:32 -0400 (Thu, 15 May 2025) EllapsedTime: 167.1 seconds RetCode: 0 Status: OK PackageFile: VariantTools_1.50.0.tar.gz PackageFileSize: 5.967 MiB