Package: VariantTools Version: 1.50.0 Command: /home/biocbuild/R/R/bin/R CMD check --install=check:VariantTools.install-out.txt --library=/home/biocbuild/R/R/site-library --no-vignettes --timings VariantTools_1.50.0.tar.gz StartedAt: 2025-05-16 14:29:28 -0000 (Fri, 16 May 2025) EndedAt: 2025-05-16 14:37:10 -0000 (Fri, 16 May 2025) EllapsedTime: 462.5 seconds RetCode: 0 Status: WARNINGS CheckDir: VariantTools.Rcheck Warnings: 2