Package: VariantAnnotation Version: 1.54.1 Command: chmod a+r VariantAnnotation -R && E:\biocbuild\bbs-3.21-bioc\R\bin\R.exe CMD build --keep-empty-dirs --no-resave-data VariantAnnotation StartedAt: 2025-08-14 22:53:03 -0400 (Thu, 14 Aug 2025) EndedAt: 2025-08-14 22:58:16 -0400 (Thu, 14 Aug 2025) EllapsedTime: 312.9 seconds RetCode: 0 Status: OK PackageFile: VariantAnnotation_1.54.1.tar.gz PackageFileSize: 1.967 MiB