Package: VarCon Version: 1.14.0 Command: /home/biocbuild/R/R/bin/R CMD check --install=check:VarCon.install-out.txt --library=/home/biocbuild/R/R/site-library --no-vignettes --timings VarCon_1.14.0.tar.gz StartedAt: 2025-01-31 11:22:28 -0000 (Fri, 31 Jan 2025) EndedAt: 2025-01-31 11:27:25 -0000 (Fri, 31 Jan 2025) EllapsedTime: 296.4 seconds RetCode: 0 Status: OK CheckDir: VarCon.Rcheck Warnings: 0