Package: VanillaICE Version: 1.68.0 Command: /home/biocbuild/R/R/bin/R CMD INSTALL VanillaICE StartedAt: 2025-01-30 20:27:19 -0000 (Thu, 30 Jan 2025) EndedAt: 2025-01-30 20:28:02 -0000 (Thu, 30 Jan 2025) EllapsedTime: 42.8 seconds RetCode: 0 Status: OK