Package: VanillaICE Version: 1.68.0 Command: F:\biocbuild\bbs-3.20-bioc\R\bin\R.exe CMD INSTALL VanillaICE StartedAt: 2025-01-30 16:09:55 -0500 (Thu, 30 Jan 2025) EndedAt: 2025-01-30 16:12:01 -0500 (Thu, 30 Jan 2025) EllapsedTime: 126.4 seconds RetCode: 0 Status: OK