Package: VanillaICE Version: 1.70.0 Command: /Library/Frameworks/R.framework/Resources/bin/R CMD build --keep-empty-dirs --no-resave-data VanillaICE StartedAt: 2025-04-21 17:56:53 -0400 (Mon, 21 Apr 2025) EndedAt: 2025-04-21 17:57:23 -0400 (Mon, 21 Apr 2025) EllapsedTime: 30.4 seconds RetCode: 0 Status: OK PackageFile: VanillaICE_1.70.0.tar.gz PackageFileSize: 2.071 MiB