Package: VaSP Version: 1.18.0 Command: /home/biocbuild/R/R/bin/R CMD INSTALL VaSP StartedAt: 2025-01-30 20:53:52 -0000 (Thu, 30 Jan 2025) EndedAt: 2025-01-30 20:54:33 -0000 (Thu, 30 Jan 2025) EllapsedTime: 40.7 seconds RetCode: 0 Status: OK