Package: VDJdive Version: 1.10.0 Command: /Library/Frameworks/R.framework/Resources/bin/R CMD INSTALL VDJdive StartedAt: 2025-04-21 15:27:06 -0400 (Mon, 21 Apr 2025) EndedAt: 2025-04-21 15:27:38 -0400 (Mon, 21 Apr 2025) EllapsedTime: 31.7 seconds RetCode: 0 Status: OK