Package: VDJdive Version: 1.10.0 Command: /home/biocbuild/R/R/bin/R CMD INSTALL VDJdive StartedAt: 2025-05-05 20:47:00 -0000 (Mon, 05 May 2025) EndedAt: 2025-05-05 20:47:35 -0000 (Mon, 05 May 2025) EllapsedTime: 35.0 seconds RetCode: 0 Status: OK