Package: VDJdive Version: 1.10.0 Command: rm -rf VDJdive.buildbin-libdir && mkdir VDJdive.buildbin-libdir && /Users/biocbuild/BBS/utils/build-universal.sh VDJdive_1.10.0.tar.gz /Library/Frameworks/R.framework/Resources/bin/R VDJdive.buildbin-libdir StartedAt: 2025-05-10 17:32:17 -0400 (Sat, 10 May 2025) EndedAt: 2025-05-10 17:32:47 -0400 (Sat, 10 May 2025) EllapsedTime: 30.3 seconds RetCode: 0 Status: OK PackageFile: VDJdive_1.10.0.tgz PackageFileSize: 876.7 KiB