Package: VAExprs Version: 1.14.0 Command: /Library/Frameworks/R.framework/Resources/bin/R CMD build --keep-empty-dirs --no-resave-data VAExprs StartedAt: 2025-05-05 23:10:23 -0400 (Mon, 05 May 2025) EndedAt: 2025-05-05 23:14:17 -0400 (Mon, 05 May 2025) EllapsedTime: 234.1 seconds RetCode: 0 Status: OK PackageFile: VAExprs_1.14.0.tar.gz PackageFileSize: 2.223 MiB