Package: VAExprs Version: 1.14.0 Command: /home/biocbuild/R/R/bin/R CMD INSTALL VAExprs StartedAt: 2025-05-05 21:12:54 -0000 (Mon, 05 May 2025) EndedAt: 2025-05-05 21:13:42 -0000 (Mon, 05 May 2025) EllapsedTime: 48.3 seconds RetCode: 0 Status: OK