Package: VAExprs Version: 1.14.0 Command: /home/biocbuild/R/R/bin/R CMD build --keep-empty-dirs --no-resave-data VAExprs StartedAt: 2025-05-09 05:16:41 -0000 (Fri, 09 May 2025) EndedAt: 2025-05-09 05:17:46 -0000 (Fri, 09 May 2025) EllapsedTime: 65.0 seconds RetCode: 0 Status: OK PackageFile: VAExprs_1.14.0.tar.gz PackageFileSize: 587.5 KiB