Package: VAExprs Version: 1.14.0 Command: /Library/Frameworks/R.framework/Resources/bin/R CMD INSTALL VAExprs StartedAt: 2025-04-21 15:29:07 -0400 (Mon, 21 Apr 2025) EndedAt: 2025-04-21 15:29:21 -0400 (Mon, 21 Apr 2025) EllapsedTime: 14.5 seconds RetCode: 0 Status: OK