Package: VAExprs Version: 1.14.0 Command: /Library/Frameworks/R.framework/Resources/bin/R CMD build --keep-empty-dirs --no-resave-data VAExprs StartedAt: 2025-05-09 10:33:48 -0400 (Fri, 09 May 2025) EndedAt: 2025-05-09 10:34:42 -0400 (Fri, 09 May 2025) EllapsedTime: 53.6 seconds RetCode: 0 Status: OK PackageFile: VAExprs_1.14.0.tar.gz PackageFileSize: 561.7 KiB