Package: Uniquorn Version: 2.28.0 Command: /Library/Frameworks/R.framework/Resources/bin/R CMD INSTALL Uniquorn StartedAt: 2025-04-21 15:33:21 -0400 (Mon, 21 Apr 2025) EndedAt: 2025-04-21 15:34:14 -0400 (Mon, 21 Apr 2025) EllapsedTime: 52.7 seconds RetCode: 0 Status: OK