Package: Uniquorn Version: 2.28.0 Command: /Library/Frameworks/R.framework/Resources/bin/R CMD check --install=check:Uniquorn.install-out.txt --library=/Library/Frameworks/R.framework/Resources/library --no-vignettes --timings Uniquorn_2.28.0.tar.gz StartedAt: 2025-04-21 22:14:52 -0400 (Mon, 21 Apr 2025) EndedAt: 2025-04-21 22:16:46 -0400 (Mon, 21 Apr 2025) EllapsedTime: 114.3 seconds RetCode: 0 Status: OK CheckDir: Uniquorn.Rcheck Warnings: 0