Package: Uniquorn Version: 2.28.0 Command: /Library/Frameworks/R.framework/Resources/bin/R CMD INSTALL Uniquorn StartedAt: 2025-05-08 17:06:24 -0400 (Thu, 08 May 2025) EndedAt: 2025-05-08 17:07:09 -0400 (Thu, 08 May 2025) EllapsedTime: 45.2 seconds RetCode: 0 Status: OK