Package: Uniquorn Version: 2.28.0 Command: /Library/Frameworks/R.framework/Resources/bin/R CMD check --install=check:Uniquorn.install-out.txt --library=/Library/Frameworks/R.framework/Resources/library --no-vignettes --timings Uniquorn_2.28.0.tar.gz StartedAt: 2025-05-14 12:58:19 -0400 (Wed, 14 May 2025) EndedAt: 2025-05-14 13:03:41 -0400 (Wed, 14 May 2025) EllapsedTime: 322.2 seconds RetCode: 0 Status: OK CheckDir: Uniquorn.Rcheck Warnings: 0