Package: Uniquorn Version: 2.28.0 Command: rm -rf Uniquorn.buildbin-libdir && mkdir Uniquorn.buildbin-libdir && /Users/biocbuild/BBS/utils/build-universal.sh Uniquorn_2.28.0.tar.gz /Library/Frameworks/R.framework/Resources/bin/R Uniquorn.buildbin-libdir StartedAt: 2025-05-14 17:22:13 -0400 (Wed, 14 May 2025) EndedAt: 2025-05-14 17:23:02 -0400 (Wed, 14 May 2025) EllapsedTime: 49.4 seconds RetCode: 0 Status: OK PackageFile: Uniquorn_2.28.0.tgz PackageFileSize: 2.321 MiB