Package: UniProt.ws Version: 2.48.0 Command: chmod a+r UniProt.ws -R && E:\biocbuild\bbs-3.21-bioc\R\bin\R.exe CMD build --keep-empty-dirs --no-resave-data UniProt.ws StartedAt: 2025-08-14 22:51:59 -0400 (Thu, 14 Aug 2025) EndedAt: 2025-08-14 22:52:42 -0400 (Thu, 14 Aug 2025) EllapsedTime: 42.7 seconds RetCode: 0 Status: OK PackageFile: UniProt.ws_2.48.0.tar.gz PackageFileSize: 240.7 KiB