############################################################################## ############################################################################## ### ### Running command: ### ### rm -rf UniProt.ws.buildbin-libdir && mkdir UniProt.ws.buildbin-libdir && /Users/biocbuild/BBS/utils/build-universal.sh UniProt.ws_2.48.0.tar.gz /Library/Frameworks/R.framework/Resources/bin/R UniProt.ws.buildbin-libdir ### ############################################################################## ############################################################################## >>>>>>> >>>>>>> INSTALLATION WITH 'R CMD INSTALL --preclean --no-multiarch --library=UniProt.ws.buildbin-libdir UniProt.ws_2.48.0.tar.gz' >>>>>>> * installing *source* package ‘UniProt.ws’ ... ** this is package ‘UniProt.ws’ version ‘2.48.0’ ** using staged installation ** R ** inst ** byte-compile and prepare package for lazy loading ** help *** installing help indices ** building package indices ** installing vignettes ** testing if installed package can be loaded from temporary location ** testing if installed package can be loaded from final location ** testing if installed package keeps a record of temporary installation path * DONE (UniProt.ws) chown: UniProt.ws.buildbin-libdir/UniProt.ws/R/UniProt.ws.rdb: Operation not permitted chown: UniProt.ws.buildbin-libdir/UniProt.ws/R/UniProt.ws.rdx: Operation not permitted chown: UniProt.ws.buildbin-libdir/UniProt.ws/R/UniProt.ws: Operation not permitted chown: UniProt.ws.buildbin-libdir/UniProt.ws/R: Operation not permitted chown: UniProt.ws.buildbin-libdir/UniProt.ws/tinytest/test_utilities.R: Operation not permitted chown: UniProt.ws.buildbin-libdir/UniProt.ws/tinytest/test_serviceAccessors.R: Operation not permitted chown: UniProt.ws.buildbin-libdir/UniProt.ws/tinytest/test_select.R: Operation not permitted chown: UniProt.ws.buildbin-libdir/UniProt.ws/tinytest/test_mapUniProt.R: Operation not permitted chown: UniProt.ws.buildbin-libdir/UniProt.ws/tinytest: Operation not permitted chown: UniProt.ws.buildbin-libdir/UniProt.ws/Meta/vignette.rds: Operation not permitted chown: UniProt.ws.buildbin-libdir/UniProt.ws/Meta/links.rds: Operation not permitted chown: UniProt.ws.buildbin-libdir/UniProt.ws/Meta/features.rds: Operation not permitted chown: UniProt.ws.buildbin-libdir/UniProt.ws/Meta/nsInfo.rds: Operation not permitted chown: UniProt.ws.buildbin-libdir/UniProt.ws/Meta/package.rds: Operation not permitted chown: UniProt.ws.buildbin-libdir/UniProt.ws/Meta/hsearch.rds: Operation not permitted chown: UniProt.ws.buildbin-libdir/UniProt.ws/Meta/Rd.rds: Operation not permitted chown: UniProt.ws.buildbin-libdir/UniProt.ws/Meta: Operation not permitted chown: UniProt.ws.buildbin-libdir/UniProt.ws/NAMESPACE: Operation not permitted chown: UniProt.ws.buildbin-libdir/UniProt.ws/html/R.css: Operation not permitted chown: UniProt.ws.buildbin-libdir/UniProt.ws/html/00Index.html: Operation not permitted chown: UniProt.ws.buildbin-libdir/UniProt.ws/html: Operation not permitted chown: UniProt.ws.buildbin-libdir/UniProt.ws/DESCRIPTION: Operation not permitted chown: UniProt.ws.buildbin-libdir/UniProt.ws/NEWS: Operation not permitted chown: UniProt.ws.buildbin-libdir/UniProt.ws/scripts/processAvailableSpeciesFiles.txt: Operation not permitted chown: UniProt.ws.buildbin-libdir/UniProt.ws/scripts/README.Rmd: Operation not permitted chown: UniProt.ws.buildbin-libdir/UniProt.ws/scripts: Operation not permitted chown: UniProt.ws.buildbin-libdir/UniProt.ws/INDEX: Operation not permitted chown: UniProt.ws.buildbin-libdir/UniProt.ws/doc/index.html: Operation not permitted chown: UniProt.ws.buildbin-libdir/UniProt.ws/doc/UniProt.ws.Rmd: Operation not permitted chown: UniProt.ws.buildbin-libdir/UniProt.ws/doc/UniProt.ws.R: Operation not permitted chown: UniProt.ws.buildbin-libdir/UniProt.ws/doc/UniProt.ws.html: Operation not permitted chown: UniProt.ws.buildbin-libdir/UniProt.ws/doc: Operation not permitted chown: UniProt.ws.buildbin-libdir/UniProt.ws/help/AnIndex: Operation not permitted chown: UniProt.ws.buildbin-libdir/UniProt.ws/help/aliases.rds: Operation not permitted chown: UniProt.ws.buildbin-libdir/UniProt.ws/help/UniProt.ws.rdb: Operation not permitted chown: UniProt.ws.buildbin-libdir/UniProt.ws/help/paths.rds: Operation not permitted chown: UniProt.ws.buildbin-libdir/UniProt.ws/help/UniProt.ws.rdx: Operation not permitted chown: UniProt.ws.buildbin-libdir/UniProt.ws/help: Operation not permitted chown: UniProt.ws.buildbin-libdir/UniProt.ws: Operation not permitted