Package: UniProt.ws Version: 2.48.0 Command: /home/biocbuild/R/R/bin/R CMD INSTALL UniProt.ws StartedAt: 2025-05-12 20:45:31 -0000 (Mon, 12 May 2025) EndedAt: 2025-05-12 20:45:52 -0000 (Mon, 12 May 2025) EllapsedTime: 21.3 seconds RetCode: 0 Status: OK