Package: UniProt.ws Version: 2.48.0 Maintainer: Marcel Ramos MaintainerEmail: marcel.ramos at sph.cuny.edu git_url: https://git.bioconductor.org/packages/UniProt.ws git_branch: RELEASE_3_21 git_last_commit: d0e016b git_last_commit_date: 2025-04-15 10:16:32 -0400 (Tue, 15 Apr 2025)