Package: UPDhmm Version: 1.4.0 Command: rm -rf UPDhmm.buildbin-libdir && mkdir UPDhmm.buildbin-libdir && /Users/biocbuild/BBS/utils/build-universal.sh UPDhmm_1.4.0.tar.gz /Library/Frameworks/R.framework/Resources/bin/R UPDhmm.buildbin-libdir StartedAt: 2025-10-08 23:32:55 -0400 (Wed, 08 Oct 2025) EndedAt: 2025-10-08 23:32:59 -0400 (Wed, 08 Oct 2025) EllapsedTime: 4.6 seconds RetCode: 0 Status: OK PackageFile: UPDhmm_1.4.0.tgz PackageFileSize: 262.2 KiB