Package: UMI4Cats Version: 1.16.0 Command: F:\biocbuild\bbs-3.20-bioc\R\bin\R.exe CMD check --no-multiarch --install=check:UMI4Cats.install-out.txt --library=F:\biocbuild\bbs-3.20-bioc\R\library --no-vignettes --timings UMI4Cats_1.16.0.tar.gz StartedAt: 2025-01-31 07:32:21 -0500 (Fri, 31 Jan 2025) EndedAt: 2025-01-31 07:39:25 -0500 (Fri, 31 Jan 2025) EllapsedTime: 424.0 seconds RetCode: 0 Status: OK CheckDir: UMI4Cats.Rcheck Warnings: 0