Package: UMI4Cats Version: 1.16.0 Command: rm -rf UMI4Cats.buildbin-libdir && mkdir UMI4Cats.buildbin-libdir && F:\biocbuild\bbs-3.20-bioc\R\bin\R.exe CMD INSTALL --build --library=UMI4Cats.buildbin-libdir UMI4Cats_1.16.0.tar.gz StartedAt: 2025-01-31 09:50:19 -0500 (Fri, 31 Jan 2025) EndedAt: 2025-01-31 09:51:35 -0500 (Fri, 31 Jan 2025) EllapsedTime: 76.4 seconds RetCode: 0 Status: OK PackageFile: UMI4Cats_1.16.0.zip PackageFileSize: 2.921 MiB