Package: UMI4Cats Version: 1.18.1 Command: /home/biocbuild/R/R/bin/R CMD check --install=check:UMI4Cats.install-out.txt --library=/home/biocbuild/R/R/site-library --no-vignettes --timings UMI4Cats_1.18.1.tar.gz StartedAt: 2025-05-09 14:56:42 -0000 (Fri, 09 May 2025) EndedAt: 2025-05-09 15:04:17 -0000 (Fri, 09 May 2025) EllapsedTime: 454.4 seconds RetCode: 0 Status: OK CheckDir: UMI4Cats.Rcheck Warnings: 0