Package: UMI4Cats Version: 1.18.0 Maintainer: Mireia Ramos-Rodriguez MaintainerEmail: mireiarr9 at gmail.com git_url: https://git.bioconductor.org/packages/UMI4Cats git_branch: RELEASE_3_21 git_last_commit: c04b1e3 git_last_commit_date: 2025-04-15 12:06:30 -0400 (Tue, 15 Apr 2025)