Package: UCSC.utils Version: 1.4.0 Command: /Library/Frameworks/R.framework/Resources/bin/R CMD check --install=check:UCSC.utils.install-out.txt --library=/Library/Frameworks/R.framework/Resources/library --no-vignettes --timings UCSC.utils_1.4.0.tar.gz StartedAt: 2025-04-22 00:15:33 -0400 (Tue, 22 Apr 2025) EndedAt: 2025-04-22 00:16:53 -0400 (Tue, 22 Apr 2025) EllapsedTime: 80.2 seconds RetCode: 0 Status: OK CheckDir: UCSC.utils.Rcheck Warnings: 0