Package: UCSC.utils Version: 1.4.0 Command: /Library/Frameworks/R.framework/Resources/bin/R CMD check --install=check:UCSC.utils.install-out.txt --library=/Library/Frameworks/R.framework/Resources/library --no-vignettes --timings UCSC.utils_1.4.0.tar.gz StartedAt: 2025-04-21 22:14:02 -0400 (Mon, 21 Apr 2025) EndedAt: 2025-04-21 22:14:40 -0400 (Mon, 21 Apr 2025) EllapsedTime: 38.4 seconds RetCode: 0 Status: OK CheckDir: UCSC.utils.Rcheck Warnings: 0