Package: UCSC.utils Version: 1.4.0 Command: rm -rf UCSC.utils.buildbin-libdir && mkdir UCSC.utils.buildbin-libdir && /Users/biocbuild/BBS/utils/build-universal.sh UCSC.utils_1.4.0.tar.gz /Library/Frameworks/R.framework/Resources/bin/R UCSC.utils.buildbin-libdir StartedAt: 2025-04-21 22:56:05 -0400 (Mon, 21 Apr 2025) EndedAt: 2025-04-21 22:56:08 -0400 (Mon, 21 Apr 2025) EllapsedTime: 3.1 seconds RetCode: 0 Status: OK PackageFile: UCSC.utils_1.4.0.tgz PackageFileSize: 283.2 KiB