Package: UCSC.utils Version: 1.2.0 Command: /Library/Frameworks/R.framework/Resources/bin/R CMD build --keep-empty-dirs --no-resave-data UCSC.utils StartedAt: 2025-01-03 09:48:45 -0500 (Fri, 03 Jan 2025) EndedAt: 2025-01-03 09:49:03 -0500 (Fri, 03 Jan 2025) EllapsedTime: 17.3 seconds RetCode: 0 Status: OK PackageFile: UCSC.utils_1.2.0.tar.gz PackageFileSize: 230.5 KiB