Package: TurboNorm Version: 1.54.0 Command: /home/biocbuild/R/R/bin/R CMD build --keep-empty-dirs --no-resave-data TurboNorm StartedAt: 2025-01-31 03:19:12 -0000 (Fri, 31 Jan 2025) EndedAt: 2025-01-31 03:19:25 -0000 (Fri, 31 Jan 2025) EllapsedTime: 13.0 seconds RetCode: 0 Status: OK PackageFile: TurboNorm_1.54.0.tar.gz PackageFileSize: 2.011 MiB