Package: Trendy Version: 1.30.0 Command: /Library/Frameworks/R.framework/Resources/bin/R CMD build --keep-empty-dirs --no-resave-data Trendy StartedAt: 2025-04-21 18:46:23 -0400 (Mon, 21 Apr 2025) EndedAt: 2025-04-21 18:47:50 -0400 (Mon, 21 Apr 2025) EllapsedTime: 86.9 seconds RetCode: 0 Status: OK PackageFile: Trendy_1.30.0.tar.gz PackageFileSize: 1.084 MiB