Package: Trendy Version: 1.30.0 Command: rm -rf Trendy.buildbin-libdir && mkdir Trendy.buildbin-libdir && /Users/biocbuild/BBS/utils/build-universal.sh Trendy_1.30.0.tar.gz /Library/Frameworks/R.framework/Resources/bin/R Trendy.buildbin-libdir StartedAt: 2025-04-22 01:14:08 -0400 (Tue, 22 Apr 2025) EndedAt: 2025-04-22 01:14:43 -0400 (Tue, 22 Apr 2025) EllapsedTime: 34.8 seconds RetCode: 0 Status: OK PackageFile: Trendy_1.30.0.tgz PackageFileSize: 769 KiB